BEGIN:VCALENDAR
PRODID:brasil.gov.agenda
VERSION:1.0
BEGIN:VEVENT
DTSTART:20220107T140000Z
DTEND:20220107T150000Z
DCREATED:20220112T121101Z
UID:Compromisso-832b23f694e441ab8f4fd04f86951205
SEQUENCE:0
LAST-MODIFIED:20220112T121101Z
SUMMARY:REUNIÃO
DESCRIPTION:Metas de produção das fazendas
LOCATION:Reitoria
PRIORITY:3
TRANSP:0
END:VEVENT
END:VCALENDAR
