BEGIN:VCALENDAR
PRODID:brasil.gov.agenda
VERSION:1.0
BEGIN:VEVENT
DTSTART:20220107T153000Z
DTEND:20220107T180000Z
DCREATED:20220112T121337Z
UID:Compromisso-58f55bf9e104459c867304eeab3f7946
SEQUENCE:0
LAST-MODIFIED:20220112T121337Z
SUMMARY:Reunião
DESCRIPTION:Diretrizes para distribuição e execução do orçamento 
 2022
LOCATION:Reitoria
PRIORITY:3
TRANSP:0
END:VEVENT
END:VCALENDAR
