BEGIN:VCALENDAR
PRODID:brasil.gov.agenda
VERSION:1.0
BEGIN:VEVENT
DTSTART:20220107T150000Z
DTEND:20220107T153000Z
DCREATED:20220112T121206Z
UID:Compromisso-cdc9a57618aa42bb8337a1e1ca6c41bc
SEQUENCE:0
LAST-MODIFIED:20220112T121206Z
SUMMARY:Reunião
DESCRIPTION:Publicidade - Webnários
LOCATION:Reitoria
PRIORITY:3
TRANSP:0
END:VEVENT
END:VCALENDAR
