BEGIN:VCALENDAR
PRODID:brasil.gov.agenda
VERSION:1.0
BEGIN:VEVENT
DTSTART:20220107T133000Z
DTEND:20220107T140000Z
DCREATED:20220112T120941Z
UID:Compromisso-30dc4d474ec1421ab5048180cbe5ac94
SEQUENCE:0
LAST-MODIFIED:20220112T120941Z
SUMMARY:Colação de Grau Antecipada
LOCATION:Reitoria
PRIORITY:3
TRANSP:0
END:VEVENT
END:VCALENDAR
