BEGIN:VCALENDAR
PRODID:brasil.gov.agenda
VERSION:1.0
BEGIN:VEVENT
DTSTART:20220107T083000Z
DTEND:20220107T120000Z
DCREATED:20220112T120853Z
UID:Compromisso-e869cc447a4147bea75be06f7a7ddb97
SEQUENCE:0
LAST-MODIFIED:20220112T120853Z
SUMMARY:264ª reunião
DESCRIPTION:113ª em caráter extraordinário do CONSU
LOCATION:Reitoria
PRIORITY:3
TRANSP:0
END:VEVENT
END:VCALENDAR
