BEGIN:VCALENDAR
PRODID:brasil.gov.agenda
VERSION:1.0
BEGIN:VEVENT
DTSTART:20220106T160000Z
DTEND:20220106T180000Z
DCREATED:20220112T120713Z
UID:Compromisso-e599f0d451d84b54b2665ff12e2e47a0
SEQUENCE:0
LAST-MODIFIED:20220112T120713Z
SUMMARY:Reunião Ponto de Controle
DESCRIPTION:Comunicação Webinário
LOCATION:Reitoria
PRIORITY:3
TRANSP:0
END:VEVENT
END:VCALENDAR
