BEGIN:VCALENDAR
PRODID:brasil.gov.agenda
VERSION:1.0
BEGIN:VEVENT
DTSTART:20220106T080000Z
DTEND:20220106T120000Z
DCREATED:20220112T120532Z
UID:Compromisso-97c9bbe80e734a1c91791368ea785541
SEQUENCE:0
LAST-MODIFIED:20220112T120532Z
SUMMARY:Despachos Internos
LOCATION:Reitoria
PRIORITY:3
TRANSP:0
END:VEVENT
END:VCALENDAR
