BEGIN:VCALENDAR
PRODID:brasil.gov.agenda
VERSION:1.0
BEGIN:VEVENT
DTSTART:20220106T140000Z
DTEND:20220106T160000Z
DCREATED:20220112T120557Z
UID:Compromisso-f1378dcda2f54b88ac325e6e768de937
SEQUENCE:0
LAST-MODIFIED:20220112T120557Z
SUMMARY:Despachos Internos
LOCATION:Reitoria
PRIORITY:3
TRANSP:0
END:VEVENT
END:VCALENDAR
