BEGIN:VCALENDAR
PRODID:brasil.gov.agenda
VERSION:1.0
BEGIN:VEVENT
DTSTART:20220104T080000Z
DTEND:20220104T120000Z
DCREATED:20220105T120551Z
UID:Compromisso-cfcb1c3c0dde4cd39928cb748a656473
SEQUENCE:0
LAST-MODIFIED:20220105T120551Z
SUMMARY:Despachos Internos
LOCATION:Reitoria
PRIORITY:3
TRANSP:0
END:VEVENT
END:VCALENDAR
