BEGIN:VCALENDAR
PRODID:brasil.gov.agenda
VERSION:1.0
BEGIN:VEVENT
DTSTART:20220104T140000Z
DTEND:20220104T180000Z
DCREATED:20220105T120619Z
UID:Compromisso-796c5fa6642b4b46a95ab7a563ef3a74
SEQUENCE:0
LAST-MODIFIED:20220105T120619Z
SUMMARY:Despachos Internos
LOCATION:Reitoria
PRIORITY:3
TRANSP:0
END:VEVENT
END:VCALENDAR
