BEGIN:VCALENDAR
PRODID:brasil.gov.agenda
VERSION:1.0
BEGIN:VEVENT
DTSTART:20220103T000000Z
DTEND:20220103T000000Z
DCREATED:20220105T115731Z
UID:Compromisso-1df20942b454478c8269927157302b2c
SEQUENCE:0
LAST-MODIFIED:20220105T115731Z
SUMMARY:Férias Regulamentares
LOCATION:Reitoria
PRIORITY:3
TRANSP:0
END:VEVENT
END:VCALENDAR
