BEGIN:VCALENDAR
PRODID:brasil.gov.agenda
VERSION:1.0
BEGIN:VEVENT
DTSTART:20211231T000000Z
DTEND:20211231T000000Z
DCREATED:20220103T124237Z
UID:Compromisso-0ff4a03f92e44fd29d3f01612fb74685
SEQUENCE:0
LAST-MODIFIED:20220103T124237Z
SUMMARY:Recesso Administrativo
LOCATION:Reitoria
PRIORITY:3
TRANSP:0
END:VEVENT
END:VCALENDAR
