BEGIN:VCALENDAR
PRODID:brasil.gov.agenda
VERSION:1.0
BEGIN:VEVENT
DTSTART:20211229T000000Z
DTEND:20211229T000000Z
DCREATED:20220103T124102Z
UID:Compromisso-64a10d90f62a4a78b4868d6a0e19a1e2
SEQUENCE:0
LAST-MODIFIED:20220103T124102Z
SUMMARY:Recesso Administrativo
LOCATION:Reitoria
PRIORITY:3
TRANSP:0
END:VEVENT
END:VCALENDAR
