BEGIN:VCALENDAR
PRODID:brasil.gov.agenda
VERSION:1.0
BEGIN:VEVENT
DTSTART:20211228T000000Z
DTEND:20211228T000000Z
DCREATED:20220103T124013Z
UID:Compromisso-14420eee3c384899a2937121fed157d4
SEQUENCE:0
LAST-MODIFIED:20220103T124013Z
SUMMARY:Recesso Administrativo
LOCATION:Reitoria
PRIORITY:3
TRANSP:0
END:VEVENT
END:VCALENDAR
