BEGIN:VCALENDAR
PRODID:brasil.gov.agenda
VERSION:1.0
BEGIN:VEVENT
DTSTART:20211226T000000Z
DTEND:20211226T000000Z
DCREATED:20220103T123831Z
UID:Compromisso-60cc845f54594dc78dedee62ecd0fbe3
SEQUENCE:0
LAST-MODIFIED:20220103T123831Z
SUMMARY:Recesso Administrativo
LOCATION:Reitoria
PRIORITY:3
TRANSP:0
END:VEVENT
END:VCALENDAR
