BEGIN:VCALENDAR
PRODID:brasil.gov.agenda
VERSION:1.0
BEGIN:VEVENT
DTSTART:20211225T000000Z
DTEND:20211225T000000Z
DCREATED:20220103T123631Z
UID:Compromisso-fb9792d3951d40668c8da7b499363f41
SEQUENCE:0
LAST-MODIFIED:20220103T123631Z
SUMMARY:Recesso Administrativo
LOCATION:Reitoria
PRIORITY:3
TRANSP:0
END:VEVENT
END:VCALENDAR
