BEGIN:VCALENDAR
PRODID:brasil.gov.agenda
VERSION:1.0
BEGIN:VEVENT
DTSTART:20211223T100000Z
DTEND:20211223T120000Z
DCREATED:20211223T173455Z
UID:Compromisso-e131b17cb7f24d1c8a1ff4817a4da35b
SEQUENCE:0
LAST-MODIFIED:20211223T173455Z
SUMMARY:Reunião com Pró-Reitora de Planejamento e Orçamento e o Diretor de Orçamento
DESCRIPTION:Orçamento 2022
LOCATION:Reitoria
PRIORITY:3
TRANSP:0
END:VEVENT
END:VCALENDAR
