BEGIN:VCALENDAR
PRODID:brasil.gov.agenda
VERSION:1.0
BEGIN:VEVENT
DTSTART:20211223T160000Z
DTEND:20211223T180000Z
DCREATED:20211223T173650Z
UID:Compromisso-c92e4bd5520642138752c449d9792454
SEQUENCE:0
LAST-MODIFIED:20211223T173650Z
SUMMARY:Reunião com o Diretor da Faculdade de Medicina
DESCRIPTION:Visita in loco Campus I
LOCATION:Reitoria
PRIORITY:3
TRANSP:0
END:VEVENT
END:VCALENDAR
