BEGIN:VCALENDAR
PRODID:brasil.gov.agenda
VERSION:1.0
BEGIN:VEVENT
DTSTART:20211223T083000Z
DTEND:20211223T100000Z
DCREATED:20211223T173418Z
UID:Compromisso-2062225b47c0422db2548b2d47976994
SEQUENCE:0
LAST-MODIFIED:20211223T173418Z
SUMMARY:Reunião com Comitê de Governança\, Integridade\, Riscos e Controles Internos
DESCRIPTION:Projeto de Extensão em TI
LOCATION:Reitoria
PRIORITY:3
TRANSP:0
END:VEVENT
END:VCALENDAR
