BEGIN:VCALENDAR
PRODID:brasil.gov.agenda
VERSION:1.0
BEGIN:VEVENT
DTSTART:20211223T140000Z
DTEND:20211223T150000Z
DCREATED:20211223T173538Z
UID:Compromisso-18e7f6b215fa4f31b6b24ae9e1f23247
SEQUENCE:0
LAST-MODIFIED:20211223T173538Z
SUMMARY:Reunião com a Secretária de Processos Administrativos
DESCRIPTION:Processos Administrativos
LOCATION:Reitoria
PRIORITY:3
TRANSP:0
END:VEVENT
END:VCALENDAR
