BEGIN:VCALENDAR
PRODID:brasil.gov.agenda
VERSION:1.0
BEGIN:VEVENT
DTSTART:20211223T150000Z
DTEND:20211223T160000Z
DCREATED:20211223T173618Z
UID:Compromisso-7f5e3cd2e23a4749b402fa11753d87a2
SEQUENCE:0
LAST-MODIFIED:20211223T173618Z
SUMMARY:Reunião com a Pró-Reitora Eventual de Administração\, Chefe da Divisão de Máquinas e Transporte e o Pró-Reitor de Extensão e Cultura
DESCRIPTION:Aquisição de Veículos
LOCATION:Reitoria
PRIORITY:3
TRANSP:0
END:VEVENT
END:VCALENDAR
