BEGIN:VCALENDAR
PRODID:brasil.gov.agenda
VERSION:1.0
BEGIN:VEVENT
DTSTART:20211222T140000Z
DTEND:20211222T150000Z
DCREATED:20211223T173223Z
UID:Compromisso-00ebcd973dd04b82961c11a898e9a2a3
SEQUENCE:0
LAST-MODIFIED:20211223T173223Z
SUMMARY:Reunião com Reitor da Universidade de Urbino e Pró-Reitores
LOCATION:Reitoria
PRIORITY:3
TRANSP:0
END:VEVENT
END:VCALENDAR
