BEGIN:VCALENDAR
PRODID:brasil.gov.agenda
VERSION:1.0
BEGIN:VEVENT
DTSTART:20211222T083000Z
DTEND:20211222T120000Z
DCREATED:20211223T173134Z
UID:Compromisso-0932842684534b05bd4d7536df03fc29
SEQUENCE:0
LAST-MODIFIED:20211223T173134Z
SUMMARY:263.ª reunião\, sendo a 112ª sessão  em caráter extraordinário do CONSU
LOCATION:Reitoria
PRIORITY:3
TRANSP:0
END:VEVENT
END:VCALENDAR
