BEGIN:VCALENDAR
PRODID:brasil.gov.agenda
VERSION:1.0
BEGIN:VEVENT
DTSTART:20211221T000000Z
DTEND:20211221T000000Z
DCREATED:20211221T130520Z
UID:Compromisso-5f72d0c1cade45c4b14b20b7052e58d0
SEQUENCE:0
LAST-MODIFIED:20211221T130520Z
SUMMARY:Férias Regulamentares
PRIORITY:3
TRANSP:0
END:VEVENT
END:VCALENDAR
