BEGIN:VCALENDAR
PRODID:brasil.gov.agenda
VERSION:1.0
BEGIN:VEVENT
DTSTART:20211217T000000Z
DTEND:20211217T000000Z
DCREATED:20211220T143859Z
UID:Compromisso-f26176be157e417e89d8939f6176dfbe
SEQUENCE:0
LAST-MODIFIED:20211220T143859Z
SUMMARY:Férias Regulamentares
PRIORITY:3
TRANSP:0
END:VEVENT
END:VCALENDAR
