BEGIN:VCALENDAR
PRODID:brasil.gov.agenda
VERSION:1.0
BEGIN:VEVENT
DTSTART:20211216T080000Z
DTEND:20211216T120000Z
DCREATED:20211216T111647Z
UID:Compromisso-a49efe86aa094a60badb28cb16ea4198
SEQUENCE:0
LAST-MODIFIED:20211216T111707Z
SUMMARY:262ª reunião\, sendo a 149ª sessão em caráter ordinário do CONSU
LOCATION:Reitoria
PRIORITY:3
TRANSP:0
END:VEVENT
END:VCALENDAR
