BEGIN:VCALENDAR
PRODID:brasil.gov.agenda
VERSION:1.0
BEGIN:VEVENT
DTSTART:20211215T100000Z
DTEND:20211215T120000Z
DCREATED:20211216T132112Z
UID:Compromisso-fc83a2017a86463b8f3133445ed79503
SEQUENCE:0
LAST-MODIFIED:20211216T132112Z
SUMMARY:Reunião com o Vice-Reitor e Secretária de PAD
DESCRIPTION:Processos Administrativos
LOCATION:Reitoria
PRIORITY:3
TRANSP:0
END:VEVENT
END:VCALENDAR
