BEGIN:VCALENDAR
PRODID:brasil.gov.agenda
VERSION:1.0
BEGIN:VEVENT
DTSTART:20211215T080000Z
DTEND:20211215T100000Z
DCREATED:20211216T131857Z
UID:Compromisso-eb3eae23bf01408bae7dc300852511f1
SEQUENCE:0
LAST-MODIFIED:20211216T131857Z
SUMMARY:Reunião com Faculdade de Engenharia Geológica
DESCRIPTION:Solicitação de suplementação
LOCATION:Reitoria
PRIORITY:3
TRANSP:0
END:VEVENT
END:VCALENDAR
