BEGIN:VCALENDAR
PRODID:brasil.gov.agenda
VERSION:1.0
BEGIN:VEVENT
DTSTART:20211215T140000Z
DTEND:20211215T180000Z
DCREATED:20211216T132141Z
UID:Compromisso-840d079d34684615b40d7828919b29d7
SEQUENCE:0
LAST-MODIFIED:20211216T132141Z
SUMMARY:Despachos Internos
LOCATION:Reitoria
PRIORITY:3
TRANSP:0
END:VEVENT
END:VCALENDAR
