BEGIN:VCALENDAR
PRODID:brasil.gov.agenda
VERSION:1.0
BEGIN:VEVENT
DTSTART:20211214T160000Z
DTEND:20211214T180000Z
DCREATED:20211216T131634Z
UID:Compromisso-762c0a20484c4ea0a4a8eccc8867821b
SEQUENCE:0
LAST-MODIFIED:20211216T131634Z
SUMMARY:Reunião com Pró-Reitorias
DESCRIPTION:Planejamento Webinário
LOCATION:Reitoria
PRIORITY:3
TRANSP:0
END:VEVENT
END:VCALENDAR
