BEGIN:VCALENDAR
PRODID:brasil.gov.agenda
VERSION:1.0
BEGIN:VEVENT
DTSTART:20211214T140000Z
DTEND:20211214T160000Z
DCREATED:20211216T131519Z
UID:Compromisso-ba86e786a07a46b382d40a5f5be8a709
SEQUENCE:0
LAST-MODIFIED:20211216T131519Z
SUMMARY:Reunião com Diretor do Hospital de Rio Vermelho
DESCRIPTION:Estágios com a Famed
LOCATION:Reitoria
PRIORITY:3
TRANSP:0
END:VEVENT
END:VCALENDAR
