BEGIN:VCALENDAR
PRODID:brasil.gov.agenda
VERSION:1.0
BEGIN:VEVENT
DTSTART:20211214T080000Z
DTEND:20211214T090000Z
DCREATED:20211216T131209Z
UID:Compromisso-29dbfb4020824ba8a2a5b692ca73ad6c
SEQUENCE:0
LAST-MODIFIED:20211216T131209Z
SUMMARY:Reunião com a Prefeitura de Rio Vermelho
DESCRIPTION:Projetos e Parcerias com a Reitoria
LOCATION:Reitoria
PRIORITY:3
TRANSP:0
END:VEVENT
END:VCALENDAR
