BEGIN:VCALENDAR
PRODID:brasil.gov.agenda
VERSION:1.0
BEGIN:VEVENT
DTSTART:20211213T100000Z
DTEND:20211213T110000Z
DCREATED:20211213T124016Z
UID:Compromisso-d734ed996c6544f1862bbf3b996a1ef2
SEQUENCE:0
LAST-MODIFIED:20211213T124016Z
SUMMARY:Reunião com a Secretaria de Processo Administrativo (SecPad)
DESCRIPTION:Demandas internas
LOCATION:Reitoria
PRIORITY:3
TRANSP:0
END:VEVENT
END:VCALENDAR
