BEGIN:VCALENDAR
PRODID:brasil.gov.agenda
VERSION:1.0
BEGIN:VEVENT
DTSTART:20211213T083000Z
DTEND:20211213T093000Z
DCREATED:20211213T123437Z
UID:Compromisso-c7b9470d431b45df87181fe4dc290651
SEQUENCE:0
LAST-MODIFIED:20211213T123437Z
SUMMARY:Reunião com a Diretoria de Tecnologia da Informação (DTI)
DESCRIPTION:Fundação de apoio de sistemas
LOCATION:Reitoria
PRIORITY:3
TRANSP:0
END:VEVENT
END:VCALENDAR
