BEGIN:VCALENDAR
PRODID:brasil.gov.agenda
VERSION:1.0
BEGIN:VEVENT
DTSTART:20211213T160000Z
DTEND:20211213T180000Z
DCREATED:20211216T115949Z
UID:Compromisso-848fd37c73a9456b94777d023a761014
SEQUENCE:0
LAST-MODIFIED:20211216T115949Z
SUMMARY:Reunião Assembléia Legislativa
LOCATION:Reitoria
PRIORITY:3
TRANSP:0
END:VEVENT
END:VCALENDAR
