BEGIN:VCALENDAR
PRODID:brasil.gov.agenda
VERSION:1.0
BEGIN:VEVENT
DTSTART:20211213T140000Z
DTEND:20211213T160000Z
DCREATED:20211216T115912Z
UID:Compromisso-36a1d4bbe9cf4aa3ac9fc42e51286cab
SEQUENCE:0
LAST-MODIFIED:20211216T115912Z
SUMMARY:Despachos Internos
LOCATION:Reitoria
PRIORITY:3
TRANSP:0
END:VEVENT
END:VCALENDAR
