BEGIN:VCALENDAR
PRODID:brasil.gov.agenda
VERSION:1.0
BEGIN:VEVENT
DTSTART:20211210T140000Z
DTEND:20211210T180000Z
DCREATED:20211216T131008Z
UID:Compromisso-06470d2c70b64d26aa2591a439d4df99
SEQUENCE:0
LAST-MODIFIED:20211216T131008Z
SUMMARY:Despachos Internos
LOCATION:Reitoria
PRIORITY:3
TRANSP:0
END:VEVENT
END:VCALENDAR
