BEGIN:VCALENDAR
PRODID:brasil.gov.agenda
VERSION:1.0
BEGIN:VEVENT
DTSTART:20211207T000000Z
DTEND:20211207T000000Z
DCREATED:20211216T130357Z
UID:Compromisso-3e37ca076fcc403da8408939b37991f3
SEQUENCE:0
LAST-MODIFIED:20211216T130357Z
SUMMARY:Férias Regulamentares
LOCATION:Reitoria
PRIORITY:3
TRANSP:0
END:VEVENT
END:VCALENDAR
