BEGIN:VCALENDAR
PRODID:brasil.gov.agenda
VERSION:1.0
BEGIN:VEVENT
DTSTART:20211203T000000Z
DTEND:20211203T000000Z
DCREATED:20211216T130147Z
UID:Compromisso-3fbb98876d5346c9bcd8fc94f712726c
SEQUENCE:0
LAST-MODIFIED:20211216T130147Z
SUMMARY:Férias Regulamentares
LOCATION:Reitoria
PRIORITY:3
TRANSP:0
END:VEVENT
END:VCALENDAR
