BEGIN:VCALENDAR
PRODID:brasil.gov.agenda
VERSION:1.0
BEGIN:VEVENT
DTSTART:20211201T080000Z
DTEND:20211201T120000Z
DCREATED:20211216T125544Z
UID:Compromisso-dc04b0c5e7b540299fdb6ecad51212c3
SEQUENCE:0
LAST-MODIFIED:20211216T125544Z
SUMMARY:Despachos Internos
LOCATION:Reitoria
PRIORITY:3
TRANSP:0
END:VEVENT
END:VCALENDAR
