BEGIN:VCALENDAR
PRODID:brasil.gov.agenda
VERSION:1.0
BEGIN:VEVENT
DTSTART:20211122T000000Z
DTEND:20211122T000000Z
DCREATED:20211124T133712Z
UID:Compromisso-cf9365c347004cb39307aa80fb55747c
SEQUENCE:0
LAST-MODIFIED:20211124T133712Z
SUMMARY:Férias regulamentares
LOCATION:Reitoria
PRIORITY:3
TRANSP:0
END:VEVENT
END:VCALENDAR
