BEGIN:VCALENDAR
PRODID:brasil.gov.agenda
VERSION:1.0
BEGIN:VEVENT
DTSTART:20211119T000000Z
DTEND:20211119T000000Z
DCREATED:20211124T133651Z
UID:Compromisso-ce7d30ee1dfc4f80a369330cb93a7b9d
SEQUENCE:0
LAST-MODIFIED:20211124T133651Z
SUMMARY:Férias regulamentares
LOCATION:Reitoria
PRIORITY:3
TRANSP:0
END:VEVENT
END:VCALENDAR
