BEGIN:VCALENDAR
PRODID:brasil.gov.agenda
VERSION:1.0
BEGIN:VEVENT
DTSTART:20211112T080000Z
DTEND:20211112T120000Z
DCREATED:20211117T114723Z
UID:Compromisso-21cd4f3e4403424ea3ee82ab1dd1436b
SEQUENCE:0
LAST-MODIFIED:20211117T114723Z
SUMMARY:Despachos Internos
LOCATION:Reitoria
PRIORITY:3
TRANSP:0
END:VEVENT
END:VCALENDAR
