BEGIN:VCALENDAR
PRODID:brasil.gov.agenda
VERSION:1.0
BEGIN:VEVENT
DTSTART:20211112T143000Z
DTEND:20211112T180000Z
DCREATED:20211117T114743Z
UID:Compromisso-9049b8f25acd423399e10ab0873d2487
SEQUENCE:0
LAST-MODIFIED:20211117T114743Z
SUMMARY:Despachos Internos
LOCATION:Reitoria
PRIORITY:3
TRANSP:0
END:VEVENT
END:VCALENDAR
