BEGIN:VCALENDAR
PRODID:brasil.gov.agenda
VERSION:1.0
BEGIN:VEVENT
DTSTART:20211111T080000Z
DTEND:20211111T180000Z
DCREATED:20211117T114459Z
UID:Compromisso-d37ce8ea869d4820837facdd4d75d2c4
SEQUENCE:0
LAST-MODIFIED:20211117T114459Z
SUMMARY:Viagem a Brasília (DF) - Retorno a Diamantina
LOCATION:Brasília - DF
PRIORITY:3
TRANSP:0
END:VEVENT
END:VCALENDAR
