BEGIN:VCALENDAR
PRODID:brasil.gov.agenda
VERSION:1.0
BEGIN:VEVENT
DTSTART:20211110T090000Z
DTEND:20211110T110000Z
DCREATED:20211117T151605Z
UID:Compromisso-e57dcb9682ba4449aaa791922f1c93ec
SEQUENCE:0
LAST-MODIFIED:20211117T151712Z
SUMMARY:Reunião com o Secretário Executivo Sérgio Freitas de Almeida
LOCATION:Gabinete da Secretaria Executiva - Brasília - DF
PRIORITY:3
TRANSP:0
END:VEVENT
END:VCALENDAR
