BEGIN:VCALENDAR
PRODID:brasil.gov.agenda
VERSION:1.0
BEGIN:VEVENT
DTSTART:20211109T110000Z
DTEND:20211109T120000Z
DCREATED:20211110T184940Z
UID:Compromisso-aebb3b77464f4191afa5cf1b604c5114
SEQUENCE:0
LAST-MODIFIED:20211110T184940Z
SUMMARY:Reunião com o Coordenador-Geral de Programas Regionais
DESCRIPTION:Desenvolvimento econômico e social das regiões de abrang
 ência da Universidade Federal dos Vales do Jequitinhonha e Mucuri (Va
 les do Jequitinhonha\, Mucuri\, Norte e Noroeste de Minas).
LOCATION:Esplanada dos Ministérios\, Bloco D\, Edifício Sede\, 7º andar\, sala 742   Brasília/DF
PRIORITY:3
TRANSP:0
END:VEVENT
END:VCALENDAR
