BEGIN:VCALENDAR
PRODID:brasil.gov.agenda
VERSION:1.0
BEGIN:VEVENT
DTSTART:20211108T080000Z
DTEND:20211108T180000Z
DCREATED:20211110T175302Z
UID:Compromisso-1d0bab3d1f4640b6a1516f1d14f6df76
SEQUENCE:0
LAST-MODIFIED:20211110T181033Z
SUMMARY:Viagem para Brasília
DESCRIPTION:Viagem para Brasília - Trecho Diamantina à Brasília
LOCATION:Reitoria
PRIORITY:3
TRANSP:0
END:VEVENT
END:VCALENDAR
