BEGIN:VCALENDAR
PRODID:brasil.gov.agenda
VERSION:1.0
BEGIN:VEVENT
DTSTART:20211105T000000Z
DTEND:20211105T000000Z
DCREATED:20211109T132727Z
UID:Compromisso-f80094da95b740b78afa3f3c2cc68d2b
SEQUENCE:0
LAST-MODIFIED:20211109T132727Z
SUMMARY:Férias Regulamentares
LOCATION:Reitoria
PRIORITY:3
TRANSP:0
END:VEVENT
END:VCALENDAR
