BEGIN:VCALENDAR
PRODID:brasil.gov.agenda
VERSION:1.0
BEGIN:VEVENT
DTSTART:20211104T103000Z
DTEND:20211104T120000Z
DCREATED:20211109T131853Z
UID:Compromisso-a8fd18e5aa724b61b19a2a922e0d5374
SEQUENCE:0
LAST-MODIFIED:20211109T131853Z
SUMMARY:Reunião On-line com a Subsecretária Augusta Fagundes
DESCRIPTION:SIGCON
LOCATION:Reitoria
PRIORITY:3
TRANSP:0
END:VEVENT
END:VCALENDAR
